BEGIN:VCALENDAR
VERSION:2.0
METHOD:PUBLISH
BEGIN:VEVENT
DTSTART:20180726T150000Z
DTEND:20180728T230000Z
LOCATION:Wichita, KS 67204
TRANSP: OPAQUE
SEQUENCE:0
UID:
DTSTAMP:20260422T014648Z
SUMMARY:Estate/Moving Sale
DESCRIPTION:Estate/Moving Sale Vintage Lotus Estate Sales and Personal Property Liquidation 
UID:1776844008
STREET-ADDRESS:See website
POSTAL-CODE:67204
LOCALITY:Wichita
REGION:ABBREV=KS
COUNTRY:ABBREV=US;ABBREV=USA:United States
URL;TYPE=Event Listing:https://estatesales.org/estate-sales/ks/wichita/67204/estatemoving-sale-1548571
PRIORITY:1
CLASS:PUBLIC
SEQUENCE:0
STATUS:CONFIRMED
TRANSP:OPAQUE
END:VEVENT
END:VCALENDAR
