BEGIN:VCALENDAR
VERSION:2.0
METHOD:PUBLISH
BEGIN:VEVENT
DTSTART:20250725T170000Z
DTEND:20250727T220000Z
LOCATION:Carmel, CA 93923
TRANSP: OPAQUE
SEQUENCE:0
UID:
DTSTAMP:20260421T115722Z
SUMMARY:Carmel Valley Estate Sale
DESCRIPTION:Carmel Valley Estate Sale A Move Made SImple 
UID:1776794242
STREET-ADDRESS:See website
POSTAL-CODE:93923
LOCALITY:Carmel
REGION:ABBREV=CA
COUNTRY:ABBREV=US;ABBREV=USA:United States
URL;TYPE=Event Listing:https://estatesales.org/estate-sales/ca/carmel/93923/carmel-valley-estate-sale-2392364
PRIORITY:1
CLASS:PUBLIC
SEQUENCE:0
STATUS:CONFIRMED
TRANSP:OPAQUE
END:VEVENT
END:VCALENDAR
