BEGIN:VCALENDAR
VERSION:2.0
METHOD:PUBLISH
BEGIN:VEVENT
DTSTART:20250725T150000Z
DTEND:20250726T210000Z
LOCATION:Granbury, TX 76049
TRANSP: OPAQUE
SEQUENCE:0
UID:
DTSTAMP:20260424T170903Z
SUMMARY:**Half Price** Pecan Plantation Duo Estate Sale #2 Hampton Dr
DESCRIPTION:**Half Price** Pecan Plantation Duo Estate Sale #2 Hampton Dr Caring Transitions of Granbury 
UID:1777072143
STREET-ADDRESS:See website
POSTAL-CODE:76049
LOCALITY:Granbury
REGION:ABBREV=TX
COUNTRY:ABBREV=US;ABBREV=USA:United States
URL;TYPE=Event Listing:https://estatesales.org/estate-sales/tx/pecan-plantation/76049/half-price-pecan-plantation-duo-2390640
PRIORITY:1
CLASS:PUBLIC
SEQUENCE:0
STATUS:CONFIRMED
TRANSP:OPAQUE
END:VEVENT
END:VCALENDAR
