BEGIN:VCALENDAR
VERSION:2.0
METHOD:PUBLISH
BEGIN:VEVENT
DTSTART:20200725T160000Z
DTEND:20200725T220000Z
LOCATION:Chicago, IL 60645
TRANSP: OPAQUE
SEQUENCE:0
UID:
DTSTAMP:20260420T094331Z
SUMMARY:Live Auction! A Huge Tool Collection, Coins, Antiques, Vintage, Mid-Century & Jewelry!
DESCRIPTION:Live Auction! A Huge Tool Collection, Coins, Antiques, Vintage, Mid-Century & Jewelry! Direct Auction Galleries, Inc. 
UID:1776699811
STREET-ADDRESS:See website
POSTAL-CODE:60645
LOCALITY:Chicago
REGION:ABBREV=IL
COUNTRY:ABBREV=US;ABBREV=USA:United States
URL;TYPE=Event Listing:https://estatesales.org/estate-sales/il/chicago/60645/live-auction-a-huge-tool-1802645
PRIORITY:1
CLASS:PUBLIC
SEQUENCE:0
STATUS:CONFIRMED
TRANSP:OPAQUE
END:VEVENT
END:VCALENDAR
