BEGIN:VCALENDAR
VERSION:2.0
METHOD:PUBLISH
BEGIN:VEVENT
DTSTART:20250724T180000Z
DTEND:20250727T200000Z
LOCATION:Enumclaw, WA 98022
TRANSP: OPAQUE
SEQUENCE:0
UID:
DTSTAMP:20260420T094335Z
SUMMARY:Enumclaw/SE 400th Street & SR 164 or 169 - 4 DAY ESTATE SALE - CHES
DESCRIPTION:Enumclaw/SE 400th Street & SR 164 or 169 - 4 DAY ESTATE SALE - CHES Cosmopolitan Hoarder Estate Services, LLC 
UID:1776699815
STREET-ADDRESS:See website
POSTAL-CODE:98022
LOCALITY:Enumclaw
REGION:ABBREV=WA
COUNTRY:ABBREV=US;ABBREV=USA:United States
URL;TYPE=Event Listing:https://estatesales.org/estate-sales/wa/enumclaw/98022/enumclawse-400th-street-sr-164-2387789
PRIORITY:1
CLASS:PUBLIC
SEQUENCE:0
STATUS:CONFIRMED
TRANSP:OPAQUE
END:VEVENT
END:VCALENDAR
