BEGIN:VCALENDAR
VERSION:2.0
METHOD:PUBLISH
BEGIN:VEVENT
DTSTART:20250724T130000Z
DTEND:20250726T180000Z
LOCATION:Jacksonville, FL 32277
TRANSP: OPAQUE
SEQUENCE:0
UID:
DTSTAMP:20260425T103619Z
SUMMARY:Grasons St Johns & Flagler Counties Amazing Americana & Antiques (Jacksonville)
DESCRIPTION:Grasons St Johns & Flagler Counties Amazing Americana & Antiques (Jacksonville) Grasons Of St Johns & Flagler Counties 
UID:1777134979
STREET-ADDRESS:See website
POSTAL-CODE:32277
LOCALITY:Jacksonville
REGION:ABBREV=FL
COUNTRY:ABBREV=US;ABBREV=USA:United States
URL;TYPE=Event Listing:https://estatesales.org/estate-sales/fl/jacksonville/32277/grasons-st-johns-flagler-counties-2391302
PRIORITY:1
CLASS:PUBLIC
SEQUENCE:0
STATUS:CONFIRMED
TRANSP:OPAQUE
END:VEVENT
END:VCALENDAR
