BEGIN:VCALENDAR
VERSION:2.0
METHOD:PUBLISH
BEGIN:VEVENT
DTSTART:20250724T150000Z
DTEND:20250726T210000Z
LOCATION:Peoria, AZ 85382
TRANSP: OPAQUE
SEQUENCE:0
UID:
DTSTAMP:20260424T180622Z
SUMMARY:***PICK-UP PLENTY OF TREASURES IN PEORIA***
DESCRIPTION:***PICK-UP PLENTY OF TREASURES IN PEORIA*** Anderson Family Estate Sales & Services, LLC 
UID:1777075582
STREET-ADDRESS:See website
POSTAL-CODE:85382
LOCALITY:Peoria
REGION:ABBREV=AZ
COUNTRY:ABBREV=US;ABBREV=USA:United States
URL;TYPE=Event Listing:https://estatesales.org/estate-sales/az/peoria/85382/pickup-plenty-of-treasures-in-2390835
PRIORITY:1
CLASS:PUBLIC
SEQUENCE:0
STATUS:CONFIRMED
TRANSP:OPAQUE
END:VEVENT
END:VCALENDAR
