BEGIN:VCALENDAR
VERSION:2.0
METHOD:PUBLISH
BEGIN:VEVENT
DTSTART:20190724T150000Z
DTEND:20190727T210000Z
LOCATION:Palestine, TX 75801
TRANSP: OPAQUE
SEQUENCE:0
UID:
DTSTAMP:20260424T215832Z
SUMMARY:Lakeside Estate Sale in Palestine
DESCRIPTION:Lakeside Estate Sale in Palestine Lakeside Estate Sales, CGL LLC. 
UID:1777089512
STREET-ADDRESS:See website
POSTAL-CODE:75801
LOCALITY:Palestine
REGION:ABBREV=TX
COUNTRY:ABBREV=US;ABBREV=USA:United States
URL;TYPE=Event Listing:https://estatesales.org/estate-sales/tx/palestine/75801/lakeside-estate-sale-in-palestine-1685131
PRIORITY:1
CLASS:PUBLIC
SEQUENCE:0
STATUS:CONFIRMED
TRANSP:OPAQUE
END:VEVENT
END:VCALENDAR
