BEGIN:VCALENDAR
VERSION:2.0
METHOD:PUBLISH
BEGIN:VEVENT
DTSTART:20150724T160000Z
DTEND:20150727T230000Z
LOCATION:Camarillo, CA 93012
TRANSP: OPAQUE
SEQUENCE:0
UID:
DTSTAMP:20260424T202628Z
SUMMARY:Camarillo Estate 2 - 30% Off All Items
DESCRIPTION:Camarillo Estate 2 - 30% Off All Items Sharon Yost Estate Sales 
UID:1777083988
STREET-ADDRESS:See website
POSTAL-CODE:93012
LOCALITY:Camarillo
REGION:ABBREV=CA
COUNTRY:ABBREV=US;ABBREV=USA:United States
URL;TYPE=Event Listing:https://estatesales.org/estate-sales/ca/camarillo/93012/camarillo-estate-2-30-off-625899
PRIORITY:1
CLASS:PUBLIC
SEQUENCE:0
STATUS:CONFIRMED
TRANSP:OPAQUE
END:VEVENT
END:VCALENDAR
