BEGIN:VCALENDAR
VERSION:2.0
METHOD:PUBLISH
BEGIN:VEVENT
DTSTART:20220723T160000Z
DTEND:20220724T220000Z
LOCATION:Yucaipa, CA 92399
TRANSP: OPAQUE
SEQUENCE:0
UID:
DTSTAMP:20260425T045050Z
SUMMARY:Next Step Yucaipa Estate Sale # 2
DESCRIPTION:Next Step Yucaipa Estate Sale # 2 Next Step Estate Sales 
UID:1777114250
STREET-ADDRESS:See website
POSTAL-CODE:92399
LOCALITY:Yucaipa
REGION:ABBREV=CA
COUNTRY:ABBREV=US;ABBREV=USA:United States
URL;TYPE=Event Listing:https://estatesales.org/estate-sales/ca/yucaipa/92399/next-step-yucaipa-estate-sale-2072629
PRIORITY:1
CLASS:PUBLIC
SEQUENCE:0
STATUS:CONFIRMED
TRANSP:OPAQUE
END:VEVENT
END:VCALENDAR
