BEGIN:VCALENDAR
VERSION:2.0
METHOD:PUBLISH
BEGIN:VEVENT
DTSTART:20210723T130000Z
DTEND:20210724T200000Z
LOCATION:Wayne, MI 48184
TRANSP: OPAQUE
SEQUENCE:0
UID:
DTSTAMP:20260422T084608Z
SUMMARY:Awesome Wayne Estate Sale
DESCRIPTION:Awesome Wayne Estate Sale All Out Estate Sale Services, LLC 
UID:1776869168
STREET-ADDRESS:See website
POSTAL-CODE:48184
LOCALITY:Wayne
REGION:ABBREV=MI
COUNTRY:ABBREV=US;ABBREV=USA:United States
URL;TYPE=Event Listing:https://estatesales.org/estate-sales/mi/wayne/48184/awesome-wayne-estate-sale-1925409
PRIORITY:1
CLASS:PUBLIC
SEQUENCE:0
STATUS:CONFIRMED
TRANSP:OPAQUE
END:VEVENT
END:VCALENDAR
