BEGIN:VCALENDAR
VERSION:2.0
METHOD:PUBLISH
BEGIN:VEVENT
DTSTART:20200723T150000Z
DTEND:20200726T210000Z
LOCATION:Park Ridge, IL 60068
TRANSP: OPAQUE
SEQUENCE:0
UID:
DTSTAMP:20260425T043936Z
SUMMARY:Park Ridge Estate Sale - 75% Off Sunday! Vintage Traditional & Transitional Furniture & Decor
DESCRIPTION:Park Ridge Estate Sale - 75% Off Sunday! Vintage Traditional & Transitional Furniture & Decor Brie's Estate Sales 
UID:1777113576
STREET-ADDRESS:See website
POSTAL-CODE:60068
LOCALITY:Park Ridge
REGION:ABBREV=IL
COUNTRY:ABBREV=US;ABBREV=USA:United States
URL;TYPE=Event Listing:https://estatesales.org/estate-sales/il/park-ridge/60068/park-ridge-estate-sale-50-1802387
PRIORITY:1
CLASS:PUBLIC
SEQUENCE:0
STATUS:CONFIRMED
TRANSP:OPAQUE
END:VEVENT
END:VCALENDAR
