BEGIN:VCALENDAR
VERSION:2.0
METHOD:PUBLISH
BEGIN:VEVENT
DTSTART:20150723T150000Z
DTEND:20150725T220000Z
LOCATION:Bremerton, WA 98310
TRANSP: OPAQUE
SEQUENCE:0
UID:
DTSTAMP:20260424T133522Z
SUMMARY:East Bremerton/Manette Estate Sale
DESCRIPTION:East Bremerton/Manette Estate Sale P W Green Antiques & Estate Sales 
UID:1777059322
STREET-ADDRESS:See website
POSTAL-CODE:98310
LOCALITY:Bremerton
REGION:ABBREV=WA
COUNTRY:ABBREV=US;ABBREV=USA:United States
URL;TYPE=Event Listing:https://estatesales.org/estate-sales/wa/bremerton/98310/east-bremertonmanette-estate-sale-622913
PRIORITY:1
CLASS:PUBLIC
SEQUENCE:0
STATUS:CONFIRMED
TRANSP:OPAQUE
END:VEVENT
END:VCALENDAR
