BEGIN:VCALENDAR
VERSION:2.0
METHOD:PUBLISH
BEGIN:VEVENT
DTSTART:20230722T120000Z
DTEND:20230723T190000Z
LOCATION:Perryville, MO 63775
TRANSP: OPAQUE
SEQUENCE:0
UID:
DTSTAMP:20260419T181922Z
SUMMARY:Living Estate - Downsizing Sale - Clean Contents
DESCRIPTION:Living Estate - Downsizing Sale - Clean Contents Lizzy Lou Estate Sales, LLC 
UID:1776644362
STREET-ADDRESS:See website
POSTAL-CODE:63775
LOCALITY:Perryville
REGION:ABBREV=MO
COUNTRY:ABBREV=US;ABBREV=USA:United States
URL;TYPE=Event Listing:https://estatesales.org/estate-sales/mo/perryville/63775/living-estate-downsizing-sale-clean-2208017
PRIORITY:1
CLASS:PUBLIC
SEQUENCE:0
STATUS:CONFIRMED
TRANSP:OPAQUE
END:VEVENT
END:VCALENDAR
