BEGIN:VCALENDAR
VERSION:2.0
METHOD:PUBLISH
BEGIN:VEVENT
DTSTART:20170722T120000Z
DTEND:20170722T180000Z
LOCATION:Marblehead, MA 01945
TRANSP: OPAQUE
SEQUENCE:0
UID:
DTSTAMP:20260419T103633Z
SUMMARY:Marblehead Downsizing Sale
DESCRIPTION:Marblehead Downsizing Sale Precision Estate Sales 
UID:1776616593
STREET-ADDRESS:See website
POSTAL-CODE:01945
LOCALITY:Marblehead
REGION:ABBREV=MA
COUNTRY:ABBREV=US;ABBREV=USA:United States
URL;TYPE=Event Listing:https://estatesales.org/estate-sales/ma/marblehead/01945/marblehead-downsizing-sale-1305155
PRIORITY:1
CLASS:PUBLIC
SEQUENCE:0
STATUS:CONFIRMED
TRANSP:OPAQUE
END:VEVENT
END:VCALENDAR
