BEGIN:VCALENDAR
VERSION:2.0
METHOD:PUBLISH
BEGIN:VEVENT
DTSTART:20140722T170000Z
DTEND:20140725T010000Z
LOCATION:Williamsburg, VA 23185
TRANSP: OPAQUE
SEQUENCE:0
UID:
DTSTAMP:20260424T115756Z
SUMMARY:Very Nice Williamsburg Estate
DESCRIPTION:Very Nice Williamsburg Estate United Country-A.B. Cole & Associates 
UID:1777053476
STREET-ADDRESS:See website
POSTAL-CODE:23185
LOCALITY:Williamsburg
REGION:ABBREV=VA
COUNTRY:ABBREV=US;ABBREV=USA:United States
URL;TYPE=Event Listing:https://estatesales.org/estate-sales/va/williamsburg/23185/very-nice-williamsburg-estate-427093
PRIORITY:1
CLASS:PUBLIC
SEQUENCE:0
STATUS:CONFIRMED
TRANSP:OPAQUE
END:VEVENT
END:VCALENDAR
