BEGIN:VCALENDAR
VERSION:2.0
METHOD:PUBLISH
BEGIN:VEVENT
DTSTART:20230721T130000Z
DTEND:20230721T190000Z
LOCATION:New Bedford, MA 02746
TRANSP: OPAQUE
SEQUENCE:0
UID:
DTSTAMP:20260420T012552Z
SUMMARY:New Bedford Estate Sale
DESCRIPTION:New Bedford Estate Sale Hidden Treasures Estate Sales & Cleanouts 
UID:1776669952
STREET-ADDRESS:See website
POSTAL-CODE:02746
LOCALITY:New Bedford
REGION:ABBREV=MA
COUNTRY:ABBREV=US;ABBREV=USA:United States
URL;TYPE=Event Listing:https://estatesales.org/estate-sales/ma/new-bedford/02746/new-bedford-estate-sale-2208227
PRIORITY:1
CLASS:PUBLIC
SEQUENCE:0
STATUS:CONFIRMED
TRANSP:OPAQUE
END:VEVENT
END:VCALENDAR
