BEGIN:VCALENDAR
VERSION:2.0
METHOD:PUBLISH
BEGIN:VEVENT
DTSTART:20220721T130000Z
DTEND:20220723T200000Z
LOCATION:Grand Ledge, MI 48837
TRANSP: OPAQUE
SEQUENCE:0
UID:
DTSTAMP:20260424T011602Z
SUMMARY:SPECTACULAR, ECCENTRIC SALE FOR TWO DAYS IN GRAND LEDGE, MI 
DESCRIPTION:SPECTACULAR, ECCENTRIC SALE FOR TWO DAYS IN GRAND LEDGE, MI  Caring Transitions of S.E. Michigan 
UID:1777014962
STREET-ADDRESS:See website
POSTAL-CODE:48837
LOCALITY:Grand Ledge
REGION:ABBREV=MI
COUNTRY:ABBREV=US;ABBREV=USA:United States
URL;TYPE=Event Listing:https://estatesales.org/estate-sales/mi/grand-ledge/48837/spectacular-eccentric-sale-for-two-2071027
PRIORITY:1
CLASS:PUBLIC
SEQUENCE:0
STATUS:CONFIRMED
TRANSP:OPAQUE
END:VEVENT
END:VCALENDAR
