BEGIN:VCALENDAR
VERSION:2.0
METHOD:PUBLISH
BEGIN:VEVENT
DTSTART:20220721T140000Z
DTEND:20220722T190000Z
LOCATION:Carol Stream, IL 60188
TRANSP: OPAQUE
SEQUENCE:0
UID:
DTSTAMP:20260425T144051Z
SUMMARY:Grasons Co of NW Chicagoland Carol Stream 2 day moving sale
DESCRIPTION:Grasons Co of NW Chicagoland Carol Stream 2 day moving sale Grasons Co of NW Chicagoland 
UID:1777149651
STREET-ADDRESS:See website
POSTAL-CODE:60188
LOCALITY:Carol Stream
REGION:ABBREV=IL
COUNTRY:ABBREV=US;ABBREV=USA:United States
URL;TYPE=Event Listing:https://estatesales.org/estate-sales/il/carol-stream/60188/grasons-co-of-nw-chicagoland-2068049
PRIORITY:1
CLASS:PUBLIC
SEQUENCE:0
STATUS:CONFIRMED
TRANSP:OPAQUE
END:VEVENT
END:VCALENDAR
