BEGIN:VCALENDAR
VERSION:2.0
METHOD:PUBLISH
BEGIN:VEVENT
DTSTART:20180721T150000Z
DTEND:20180721T230000Z
LOCATION:Bellevue, WA 98006
TRANSP: OPAQUE
SEQUENCE:0
UID:
DTSTAMP:20260421T124213Z
SUMMARY:Bellevue Estate Sale
DESCRIPTION:Bellevue Estate Sale Caring Transitions of Issaquah/Bellevue 
UID:1776796933
STREET-ADDRESS:See website
POSTAL-CODE:98006
LOCALITY:Bellevue
REGION:ABBREV=WA
COUNTRY:ABBREV=US;ABBREV=USA:United States
URL;TYPE=Event Listing:https://estatesales.org/estate-sales/wa/bellevue/98006/bellevue-estate-sale-1538923
PRIORITY:1
CLASS:PUBLIC
SEQUENCE:0
STATUS:CONFIRMED
TRANSP:OPAQUE
END:VEVENT
END:VCALENDAR
