BEGIN:VCALENDAR
VERSION:2.0
METHOD:PUBLISH
BEGIN:VEVENT
DTSTART:20180721T130000Z
DTEND:20180721T200000Z
LOCATION:Huntington, NY 11743
TRANSP: OPAQUE
SEQUENCE:0
UID:
DTSTAMP:20260424T170903Z
SUMMARY:Magnificent Antiques & Entire House Estate Sale, Huntington 
DESCRIPTION:Magnificent Antiques & Entire House Estate Sale, Huntington  All American Auctions 
UID:1777072143
STREET-ADDRESS:See website
POSTAL-CODE:11743
LOCALITY:Huntington
REGION:ABBREV=NY
COUNTRY:ABBREV=US;ABBREV=USA:United States
URL;TYPE=Event Listing:https://estatesales.org/estate-sales/ny/huntington-/11743/magnificent-antiques-entire-house-estate-1544287
PRIORITY:1
CLASS:PUBLIC
SEQUENCE:0
STATUS:CONFIRMED
TRANSP:OPAQUE
END:VEVENT
END:VCALENDAR
