BEGIN:VCALENDAR
VERSION:2.0
METHOD:PUBLISH
BEGIN:VEVENT
DTSTART:20160721T160000Z
DTEND:20160724T220000Z
LOCATION:Denver, CO 80228
TRANSP: OPAQUE
SEQUENCE:0
UID:
DTSTAMP:20260420T190747Z
SUMMARY:Massage Chair, Media Room, Kitchen, Patio, Office, Boat. Woodworking Tool Collection and More...
DESCRIPTION:Massage Chair, Media Room, Kitchen, Patio, Office, Boat. Woodworking Tool Collection and More... Colorful Colorado Estate Sales 
UID:1776733667
STREET-ADDRESS:See website
POSTAL-CODE:80228
LOCALITY:Denver
REGION:ABBREV=CO
COUNTRY:ABBREV=US;ABBREV=USA:United States
URL;TYPE=Event Listing:https://estatesales.org/estate-sales/co/denver/80228/massage-chair-media-room-kitchen-909403
PRIORITY:1
CLASS:PUBLIC
SEQUENCE:0
STATUS:CONFIRMED
TRANSP:OPAQUE
END:VEVENT
END:VCALENDAR
