BEGIN:VCALENDAR
VERSION:2.0
METHOD:PUBLISH
BEGIN:VEVENT
DTSTART:20240720T150000Z
DTEND:20240721T210000Z
LOCATION:Beverly, MA 01915
TRANSP: OPAQUE
SEQUENCE:0
UID:
DTSTAMP:20260419T104714Z
SUMMARY:Kaminski Auctions July Estate
DESCRIPTION:Kaminski Auctions July Estate KaminskiAuctions 
UID:1776617234
STREET-ADDRESS:See website
POSTAL-CODE:01915
LOCALITY:Beverly
REGION:ABBREV=MA
COUNTRY:ABBREV=US;ABBREV=USA:United States
URL;TYPE=Event Listing:https://estatesales.org/estate-sales/ma/beverly/01915/kaminski-auctions-july-estate-2327033
PRIORITY:1
CLASS:PUBLIC
SEQUENCE:0
STATUS:CONFIRMED
TRANSP:OPAQUE
END:VEVENT
END:VCALENDAR
