BEGIN:VCALENDAR
VERSION:2.0
METHOD:PUBLISH
BEGIN:VEVENT
DTSTART:20240720T133000Z
DTEND:20240721T173000Z
LOCATION:Stony Brook, NY 11790
TRANSP: OPAQUE
SEQUENCE:0
UID:
DTSTAMP:20260423T110423Z
SUMMARY:Estate Sale! Everything Must Go!
DESCRIPTION:Estate Sale! Everything Must Go! Barton & Co 
UID:1776963863
STREET-ADDRESS:See website
POSTAL-CODE:11790
LOCALITY:Stony Brook
REGION:ABBREV=NY
COUNTRY:ABBREV=US;ABBREV=USA:United States
URL;TYPE=Event Listing:https://estatesales.org/estate-sales/ny/stony-brook/11790/estate-sale-everything-must-go-2328816
PRIORITY:1
CLASS:PUBLIC
SEQUENCE:0
STATUS:CONFIRMED
TRANSP:OPAQUE
END:VEVENT
END:VCALENDAR
