BEGIN:VCALENDAR
VERSION:2.0
METHOD:PUBLISH
BEGIN:VEVENT
DTSTART:20240720T140000Z
DTEND:20240720T180000Z
LOCATION:Gilbert, AZ 85296
TRANSP: OPAQUE
SEQUENCE:0
UID:
DTSTAMP:20260419T195100Z
SUMMARY:Gilbert Sale
DESCRIPTION:Gilbert Sale Arizona Finds 
UID:1776649860
STREET-ADDRESS:See website
POSTAL-CODE:85296
LOCALITY:Gilbert
REGION:ABBREV=AZ
COUNTRY:ABBREV=US;ABBREV=USA:United States
URL;TYPE=Event Listing:https://estatesales.org/estate-sales/az/gilbert/85296/gilbert-sale-2328905
PRIORITY:1
CLASS:PUBLIC
SEQUENCE:0
STATUS:CONFIRMED
TRANSP:OPAQUE
END:VEVENT
END:VCALENDAR
