BEGIN:VCALENDAR
VERSION:2.0
METHOD:PUBLISH
BEGIN:VEVENT
DTSTART:20230720T140000Z
DTEND:20230722T200000Z
LOCATION:Reno, NV 89506
TRANSP: OPAQUE
SEQUENCE:0
UID:
DTSTAMP:20260425T162412Z
SUMMARY:FULL HOUSE
DESCRIPTION:FULL HOUSE TLC Estate Services 
UID:1777155852
STREET-ADDRESS:See website
POSTAL-CODE:89506
LOCALITY:Reno
REGION:ABBREV=NV
COUNTRY:ABBREV=US;ABBREV=USA:United States
URL;TYPE=Event Listing:https://estatesales.org/estate-sales/nv/reno/89506/full-house-2208475
PRIORITY:1
CLASS:PUBLIC
SEQUENCE:0
STATUS:CONFIRMED
TRANSP:OPAQUE
END:VEVENT
END:VCALENDAR
