BEGIN:VCALENDAR
VERSION:2.0
METHOD:PUBLISH
BEGIN:VEVENT
DTSTART:20190720T140000Z
DTEND:20190720T210000Z
LOCATION:Commerce, GA 30529
TRANSP: OPAQUE
SEQUENCE:0
UID:
DTSTAMP:20260420T161906Z
SUMMARY:Multi Estate Auction - Quality Antiques, Art, Furnishings, Collectibles
DESCRIPTION:Multi Estate Auction - Quality Antiques, Art, Furnishings, Collectibles Rockabilly Auction Co. 
UID:1776723546
STREET-ADDRESS:See website
POSTAL-CODE:30529
LOCALITY:Commerce
REGION:ABBREV=GA
COUNTRY:ABBREV=US;ABBREV=USA:United States
URL;TYPE=Event Listing:https://estatesales.org/estate-sales/ga/commerce/30529/multi-estate-auction-quality-antiques-1669873
PRIORITY:1
CLASS:PUBLIC
SEQUENCE:0
STATUS:CONFIRMED
TRANSP:OPAQUE
END:VEVENT
END:VCALENDAR
