BEGIN:VCALENDAR
VERSION:2.0
METHOD:PUBLISH
BEGIN:VEVENT
DTSTART:20190720T130000Z
DTEND:20190721T210000Z
LOCATION:Athens, GA 30605
TRANSP: OPAQUE
SEQUENCE:0
UID:
DTSTAMP:20260421T120437Z
SUMMARY:SOUTHERN LIVING ESTATE SALE! 2 DAY SALE !
DESCRIPTION:SOUTHERN LIVING ESTATE SALE! 2 DAY SALE ! Athena Estate Sales 
UID:1776794677
STREET-ADDRESS:See website
POSTAL-CODE:30605
LOCALITY:Athens
REGION:ABBREV=GA
COUNTRY:ABBREV=US;ABBREV=USA:United States
URL;TYPE=Event Listing:https://estatesales.org/estate-sales/ga/athens/30605/southern-living-estate-sale-2-1691081
PRIORITY:1
CLASS:PUBLIC
SEQUENCE:0
STATUS:CONFIRMED
TRANSP:OPAQUE
END:VEVENT
END:VCALENDAR
