BEGIN:VCALENDAR
VERSION:2.0
METHOD:PUBLISH
BEGIN:VEVENT
DTSTART:20250719T150000Z
DTEND:20250719T200000Z
LOCATION:Layton, UT 84041
TRANSP: OPAQUE
SEQUENCE:0
UID:
DTSTAMP:20260423T062912Z
SUMMARY:LAYTON UTAH ESTATE SALE (BRONCOS COLLECTION, JAPANESE CHINA, ETC) Saturday July 19th 9am
DESCRIPTION:LAYTON UTAH ESTATE SALE (BRONCOS COLLECTION, JAPANESE CHINA, ETC) Saturday July 19th 9am OGDEN LAYTON ESTATE SALES 
UID:1776947352
STREET-ADDRESS:See website
POSTAL-CODE:84041
LOCALITY:Layton
REGION:ABBREV=UT
COUNTRY:ABBREV=US;ABBREV=USA:United States
URL;TYPE=Event Listing:https://estatesales.org/estate-sales/ut/layton/84041/layton-utah-estate-sale-broncos-2390543
PRIORITY:1
CLASS:PUBLIC
SEQUENCE:0
STATUS:CONFIRMED
TRANSP:OPAQUE
END:VEVENT
END:VCALENDAR
