BEGIN:VCALENDAR
VERSION:2.0
METHOD:PUBLISH
BEGIN:VEVENT
DTSTART:20240719T130000Z
DTEND:20240721T180000Z
LOCATION:Oviedo, FL 32765
TRANSP: OPAQUE
SEQUENCE:0
UID:
DTSTAMP:20260423T132550Z
SUMMARY:50% OFF, EMERALD in Oviedo
DESCRIPTION:50% OFF, EMERALD in Oviedo Estate Sales by Emerald 
UID:1776972350
STREET-ADDRESS:See website
POSTAL-CODE:32765
LOCALITY:Oviedo
REGION:ABBREV=FL
COUNTRY:ABBREV=US;ABBREV=USA:United States
URL;TYPE=Event Listing:https://estatesales.org/estate-sales/fl/oviedo/32765/emerald-will-be-in-oviedo-2323875
PRIORITY:1
CLASS:PUBLIC
SEQUENCE:0
STATUS:CONFIRMED
TRANSP:OPAQUE
END:VEVENT
END:VCALENDAR
