BEGIN:VCALENDAR
VERSION:2.0
METHOD:PUBLISH
BEGIN:VEVENT
DTSTART:20240719T140000Z
DTEND:20240720T210000Z
LOCATION:Menasha, WI 54952
TRANSP: OPAQUE
SEQUENCE:0
UID:
DTSTAMP:20260423T090432Z
SUMMARY:Menasha Estate Sale by "The Missing Piece" FRI 7/19 - SAT 7/20 - 9AM
DESCRIPTION:Menasha Estate Sale by "The Missing Piece" FRI 7/19 - SAT 7/20 - 9AM Greg Willett Antiques and Estate Sales 
UID:1776956672
STREET-ADDRESS:See website
POSTAL-CODE:54952
LOCALITY:Menasha
REGION:ABBREV=WI
COUNTRY:ABBREV=US;ABBREV=USA:United States
URL;TYPE=Event Listing:https://estatesales.org/estate-sales/wi/menasha/54952/menasha-estate-sale-by-the-2328060
PRIORITY:1
CLASS:PUBLIC
SEQUENCE:0
STATUS:CONFIRMED
TRANSP:OPAQUE
END:VEVENT
END:VCALENDAR
