BEGIN:VCALENDAR
VERSION:2.0
METHOD:PUBLISH
BEGIN:VEVENT
DTSTART:20240719T120000Z
DTEND:20240720T190000Z
LOCATION:Farmington, CT 06032
TRANSP: OPAQUE
SEQUENCE:0
UID:
DTSTAMP:20260425T152542Z
SUMMARY:Farmington Estate Sale
DESCRIPTION:Farmington Estate Sale Sean Mahoney Estate Sales LLC 
UID:1777152342
STREET-ADDRESS:See website
POSTAL-CODE:06032
LOCALITY:Farmington
REGION:ABBREV=CT
COUNTRY:ABBREV=US;ABBREV=USA:United States
URL;TYPE=Event Listing:https://estatesales.org/estate-sales/ct/farmington/06032/farmington-estate-sale-2327828
PRIORITY:1
CLASS:PUBLIC
SEQUENCE:0
STATUS:CONFIRMED
TRANSP:OPAQUE
END:VEVENT
END:VCALENDAR
