BEGIN:VCALENDAR
VERSION:2.0
METHOD:PUBLISH
BEGIN:VEVENT
DTSTART:20190719T150000Z
DTEND:20190720T210000Z
LOCATION:North Bend, WA 98045
TRANSP: OPAQUE
SEQUENCE:0
UID:
DTSTAMP:20260421T124153Z
SUMMARY:North Bend Estate Sale
DESCRIPTION:North Bend Estate Sale Caring Transitions of Issaquah/Bellevue 
UID:1776796913
STREET-ADDRESS:See website
POSTAL-CODE:98045
LOCALITY:North Bend
REGION:ABBREV=WA
COUNTRY:ABBREV=US;ABBREV=USA:United States
URL;TYPE=Event Listing:https://estatesales.org/estate-sales/wa/north-bend/98045/north-bend-estate-sale-1685487
PRIORITY:1
CLASS:PUBLIC
SEQUENCE:0
STATUS:CONFIRMED
TRANSP:OPAQUE
END:VEVENT
END:VCALENDAR
