BEGIN:VCALENDAR
VERSION:2.0
METHOD:PUBLISH
BEGIN:VEVENT
DTSTART:20180719T180000Z
DTEND:20180721T220000Z
LOCATION:Chippewa Falls, WI 54729
TRANSP: OPAQUE
SEQUENCE:0
UID:
DTSTAMP:20260425T131238Z
SUMMARY:Estate Sale Chippewa Falls WI
DESCRIPTION:Estate Sale Chippewa Falls WI The Attic Home Consignments & Estate Sales 
UID:1777144358
STREET-ADDRESS:See website
POSTAL-CODE:54729
LOCALITY:Chippewa Falls
REGION:ABBREV=WI
COUNTRY:ABBREV=US;ABBREV=USA:United States
URL;TYPE=Event Listing:https://estatesales.org/estate-sales/wi/chippewa-falls/54729/estate-sale-chippewa-falls-wi-1545039
PRIORITY:1
CLASS:PUBLIC
SEQUENCE:0
STATUS:CONFIRMED
TRANSP:OPAQUE
END:VEVENT
END:VCALENDAR
