BEGIN:VCALENDAR
VERSION:2.0
METHOD:PUBLISH
BEGIN:VEVENT
DTSTART:20250718T140000Z
DTEND:20250720T210000Z
LOCATION:Ocoee, FL 34761
TRANSP: OPAQUE
SEQUENCE:0
UID:
DTSTAMP:20260423T110423Z
SUMMARY:Let it Go Lifestyle Emporium 40% off Furniture Sale!
DESCRIPTION:Let it Go Lifestyle Emporium 40% off Furniture Sale! Let It Go Lifestyle Estate Sale Company & Emporium 
UID:1776963863
STREET-ADDRESS:See website
POSTAL-CODE:34761
LOCALITY:Ocoee
REGION:ABBREV=FL
COUNTRY:ABBREV=US;ABBREV=USA:United States
URL;TYPE=Event Listing:https://estatesales.org/estate-sales/fl/ocoee/34761/let-it-go-lifestyle-emporium-2390815
PRIORITY:1
CLASS:PUBLIC
SEQUENCE:0
STATUS:CONFIRMED
TRANSP:OPAQUE
END:VEVENT
END:VCALENDAR
