BEGIN:VCALENDAR
VERSION:2.0
METHOD:PUBLISH
BEGIN:VEVENT
DTSTART:20250718T140000Z
DTEND:20250719T210000Z
LOCATION:Sherwood, WI 54169
TRANSP: OPAQUE
SEQUENCE:0
UID:
DTSTAMP:20260424T213718Z
SUMMARY:Sherwood, ESTATE SALE BY THE " Estate Sale Squad" -FRI 07/18- 9AM-5PM, - SAT 07/19- 9AM-4PM
DESCRIPTION:Sherwood, ESTATE SALE BY THE " Estate Sale Squad" -FRI 07/18- 9AM-5PM, - SAT 07/19- 9AM-4PM Estate Sale Squad LLC 
UID:1777088238
STREET-ADDRESS:See website
POSTAL-CODE:54169
LOCALITY:Sherwood
REGION:ABBREV=WI
COUNTRY:ABBREV=US;ABBREV=USA:United States
URL;TYPE=Event Listing:https://estatesales.org/estate-sales/wi/sherwood/54169/sherwood-estate-sale-by-the-2390656
PRIORITY:1
CLASS:PUBLIC
SEQUENCE:0
STATUS:CONFIRMED
TRANSP:OPAQUE
END:VEVENT
END:VCALENDAR
