BEGIN:VCALENDAR
VERSION:2.0
METHOD:PUBLISH
BEGIN:VEVENT
DTSTART:20250718T140000Z
DTEND:20250719T210000Z
LOCATION:Neenah, WI 54956
TRANSP: OPAQUE
SEQUENCE:0
UID:
DTSTAMP:20260423T090434Z
SUMMARY:Neenah Estate Sale by - "The Missing Piece" FRI 7/18 - SAT 7/19 - 9AM
DESCRIPTION:Neenah Estate Sale by - "The Missing Piece" FRI 7/18 - SAT 7/19 - 9AM Greg Willett Antiques and Estate Sales 
UID:1776956674
STREET-ADDRESS:See website
POSTAL-CODE:54956
LOCALITY:Neenah
REGION:ABBREV=WI
COUNTRY:ABBREV=US;ABBREV=USA:United States
URL;TYPE=Event Listing:https://estatesales.org/estate-sales/wi/neenah/54956/neenah-estate-sale-by-the-2390638
PRIORITY:1
CLASS:PUBLIC
SEQUENCE:0
STATUS:CONFIRMED
TRANSP:OPAQUE
END:VEVENT
END:VCALENDAR
