BEGIN:VCALENDAR
VERSION:2.0
METHOD:PUBLISH
BEGIN:VEVENT
DTSTART:20250718T150000Z
DTEND:20250719T210000Z
LOCATION:Bakersfield, CA 93309
TRANSP: OPAQUE
SEQUENCE:0
UID:
DTSTAMP:20260421T115722Z
SUMMARY:"You Want It, We've Got It!" Sale Brought To You By Senior Move Manager & More!
DESCRIPTION:"You Want It, We've Got It!" Sale Brought To You By Senior Move Manager & More! Senior Move Manager & More! 
UID:1776794242
STREET-ADDRESS:See website
POSTAL-CODE:93309
LOCALITY:Bakersfield
REGION:ABBREV=CA
COUNTRY:ABBREV=US;ABBREV=USA:United States
URL;TYPE=Event Listing:https://estatesales.org/estate-sales/ca/bakersfield/93309/you-want-it-weve-got-2390195
PRIORITY:1
CLASS:PUBLIC
SEQUENCE:0
STATUS:CONFIRMED
TRANSP:OPAQUE
END:VEVENT
END:VCALENDAR
