BEGIN:VCALENDAR
VERSION:2.0
METHOD:PUBLISH
BEGIN:VEVENT
DTSTART:20240718T160000Z
DTEND:20240720T220000Z
LOCATION:Torrance, CA 90501
TRANSP: OPAQUE
SEQUENCE:0
UID:
DTSTAMP:20260420T022417Z
SUMMARY:$4 Saturday - 50 Bins Dig In!!! 9a-3p
DESCRIPTION:$4 Saturday - 50 Bins Dig In!!! 9a-3p Diamond Heirlooms Estate Sales & Consulting  LLC 
UID:1776673457
STREET-ADDRESS:See website
POSTAL-CODE:90501
LOCALITY:Torrance
REGION:ABBREV=CA
COUNTRY:ABBREV=US;ABBREV=USA:United States
URL;TYPE=Event Listing:https://estatesales.org/estate-sales/ca/torrance/90501/6-friday-50-bins-dig-2320732
PRIORITY:1
CLASS:PUBLIC
SEQUENCE:0
STATUS:CONFIRMED
TRANSP:OPAQUE
END:VEVENT
END:VCALENDAR
