BEGIN:VCALENDAR
VERSION:2.0
METHOD:PUBLISH
BEGIN:VEVENT
DTSTART:20260717T160000Z
DTEND:20260719T200000Z
LOCATION:Portland, OR 97221 (Full address will be shown on Fri, Jul 17 8:00am)
TRANSP: OPAQUE
SEQUENCE:0
UID:
DTSTAMP:20260423T042239Z
SUMMARY:The Rusty Trunk LLC opens to “Fanfair Farm” Estate Sale
DESCRIPTION:The Rusty Trunk LLC opens to “Fanfair Farm” Estate Sale The Rusty Trunk LLC 
UID:1776939759
STREET-ADDRESS:See website
POSTAL-CODE:97221
LOCALITY:Portland
REGION:ABBREV=OR
COUNTRY:ABBREV=US;ABBREV=USA:United States
URL;TYPE=Event Listing:https://estatesales.org/estate-sales/or/portland/97221/the-rusty-trunk-llc-opens-2434286
PRIORITY:1
CLASS:PUBLIC
SEQUENCE:0
STATUS:CONFIRMED
TRANSP:OPAQUE
END:VEVENT
END:VCALENDAR
