BEGIN:VCALENDAR
VERSION:2.0
METHOD:PUBLISH
BEGIN:VEVENT
DTSTART:20250717T140000Z
DTEND:20250720T180000Z
LOCATION:Paola, KS 66071
TRANSP: OPAQUE
SEQUENCE:0
UID:
DTSTAMP:20260419T070252Z
SUMMARY:Pickup, Trike, Zero Turn, Jeep, Trailer, house full and more by Caring Transitions KC
DESCRIPTION:Pickup, Trike, Zero Turn, Jeep, Trailer, house full and more by Caring Transitions KC Caring Transitions Kansas City 
UID:1776603772
STREET-ADDRESS:See website
POSTAL-CODE:66071
LOCALITY:Paola
REGION:ABBREV=KS
COUNTRY:ABBREV=US;ABBREV=USA:United States
URL;TYPE=Event Listing:https://estatesales.org/estate-sales/ks/paola/66071/pickup-trike-zero-turn-jeep-2390743
PRIORITY:1
CLASS:PUBLIC
SEQUENCE:0
STATUS:CONFIRMED
TRANSP:OPAQUE
END:VEVENT
END:VCALENDAR
