BEGIN:VCALENDAR
VERSION:2.0
METHOD:PUBLISH
BEGIN:VEVENT
DTSTART:20250717T130000Z
DTEND:20250720T160000Z
LOCATION:Land O Lakes, FL 34638
TRANSP: OPAQUE
SEQUENCE:0
UID:
DTSTAMP:20260423T094748Z
SUMMARY:Baby Boomers Land O Lakes Estate Sale
DESCRIPTION:Baby Boomers Land O Lakes Estate Sale Baby Boomers Estate Sales 
UID:1776959268
STREET-ADDRESS:See website
POSTAL-CODE:34638
LOCALITY:Land O Lakes
REGION:ABBREV=FL
COUNTRY:ABBREV=US;ABBREV=USA:United States
URL;TYPE=Event Listing:https://estatesales.org/estate-sales/fl/land-o-lakes/34638/baby-boomers-land-o-lakes-2387786
PRIORITY:1
CLASS:PUBLIC
SEQUENCE:0
STATUS:CONFIRMED
TRANSP:OPAQUE
END:VEVENT
END:VCALENDAR
