BEGIN:VCALENDAR
VERSION:2.0
METHOD:PUBLISH
BEGIN:VEVENT
DTSTART:20250717T150000Z
DTEND:20250719T200000Z
LOCATION:Littleton, CO 80122
TRANSP: OPAQUE
SEQUENCE:0
UID:
DTSTAMP:20260419T061833Z
SUMMARY:Grasons of SW Denver - Antiques Paradise: A Collector's Dream!
DESCRIPTION:Grasons of SW Denver - Antiques Paradise: A Collector's Dream! Grasons of Southwest Denver, CO 
UID:1776601113
STREET-ADDRESS:See website
POSTAL-CODE:80122
LOCALITY:Littleton
REGION:ABBREV=CO
COUNTRY:ABBREV=US;ABBREV=USA:United States
URL;TYPE=Event Listing:https://estatesales.org/estate-sales/co/littleton/80122/grasons-of-sw-denver-antiques-2390019
PRIORITY:1
CLASS:PUBLIC
SEQUENCE:0
STATUS:CONFIRMED
TRANSP:OPAQUE
END:VEVENT
END:VCALENDAR
