BEGIN:VCALENDAR
VERSION:2.0
METHOD:PUBLISH
BEGIN:VEVENT
DTSTART:20250717T130000Z
DTEND:20250719T180000Z
LOCATION:Saint Augustine, FL 32080
TRANSP: OPAQUE
SEQUENCE:0
UID:
DTSTAMP:20260425T103619Z
SUMMARY:Grasons St Johns & Flagler Counties OUTSTANDING Estate Sale St Augustine Beach
DESCRIPTION:Grasons St Johns & Flagler Counties OUTSTANDING Estate Sale St Augustine Beach Grasons Of St Johns & Flagler Counties 
UID:1777134979
STREET-ADDRESS:See website
POSTAL-CODE:32080
LOCALITY:Saint Augustine
REGION:ABBREV=FL
COUNTRY:ABBREV=US;ABBREV=USA:United States
URL;TYPE=Event Listing:https://estatesales.org/estate-sales/fl/st-augustine/32080/grasons-st-johns-flagler-counties-2389926
PRIORITY:1
CLASS:PUBLIC
SEQUENCE:0
STATUS:CONFIRMED
TRANSP:OPAQUE
END:VEVENT
END:VCALENDAR
