BEGIN:VCALENDAR
VERSION:2.0
METHOD:PUBLISH
BEGIN:VEVENT
DTSTART:20190717T170000Z
DTEND:20190720T200000Z
LOCATION:Menifee, CA 92586
TRANSP: OPAQUE
SEQUENCE:0
UID:
DTSTAMP:20260420T094334Z
SUMMARY:FUN RETRO IN MENIFEE!  Eclectic Boho Mix!
DESCRIPTION:FUN RETRO IN MENIFEE!  Eclectic Boho Mix! Retro House Love Estate Sales 
UID:1776699814
STREET-ADDRESS:See website
POSTAL-CODE:92586
LOCALITY:Menifee
REGION:ABBREV=CA
COUNTRY:ABBREV=US;ABBREV=USA:United States
URL;TYPE=Event Listing:https://estatesales.org/estate-sales/ca/menifee/92586/fun-retro-in-menifee-eclectic-1689639
PRIORITY:1
CLASS:PUBLIC
SEQUENCE:0
STATUS:CONFIRMED
TRANSP:OPAQUE
END:VEVENT
END:VCALENDAR
