BEGIN:VCALENDAR
VERSION:2.0
METHOD:PUBLISH
BEGIN:VEVENT
DTSTART:20220716T130000Z
DTEND:20220717T190000Z
LOCATION:Parrish, FL 34219
TRANSP: OPAQUE
SEQUENCE:0
UID:
DTSTAMP:20260423T131057Z
SUMMARY:50% OFF SUNDAY! Whole House Sale Parrish 
DESCRIPTION:50% OFF SUNDAY! Whole House Sale Parrish  Estate Sales of Pinellas 
UID:1776971457
STREET-ADDRESS:See website
POSTAL-CODE:34219
LOCALITY:Parrish
REGION:ABBREV=FL
COUNTRY:ABBREV=US;ABBREV=USA:United States
URL;TYPE=Event Listing:https://estatesales.org/estate-sales/fl/parrish/34219/whole-house-sale-parrish-2060539
PRIORITY:1
CLASS:PUBLIC
SEQUENCE:0
STATUS:CONFIRMED
TRANSP:OPAQUE
END:VEVENT
END:VCALENDAR
