BEGIN:VCALENDAR
VERSION:2.0
METHOD:PUBLISH
BEGIN:VEVENT
DTSTART:20210716T140000Z
DTEND:20210718T200000Z
LOCATION:Kettering, OH 45440
TRANSP: OPAQUE
SEQUENCE:0
UID:
DTSTAMP:20260419T074345Z
SUMMARY:Estate Sale by Gayle!
DESCRIPTION:Estate Sale by Gayle! Perkins Interiors & Estate Sales 
UID:1776606225
STREET-ADDRESS:See website
POSTAL-CODE:45440
LOCALITY:Kettering
REGION:ABBREV=OH
COUNTRY:ABBREV=US;ABBREV=USA:United States
URL;TYPE=Event Listing:https://estatesales.org/estate-sales/oh/kettering/45440/estate-sale-by-gayle-1929817
PRIORITY:1
CLASS:PUBLIC
SEQUENCE:0
STATUS:CONFIRMED
TRANSP:OPAQUE
END:VEVENT
END:VCALENDAR
