BEGIN:VCALENDAR
VERSION:2.0
METHOD:PUBLISH
BEGIN:VEVENT
DTSTART:20210716T143600Z
DTEND:20210725T220000Z
LOCATION:Neshkoro, WI 54960
TRANSP: OPAQUE
SEQUENCE:0
UID:
DTSTAMP:20260421T211129Z
SUMMARY:ITEMS FOR ALL INTERESTS! SURREY BICYCLE, PWR SCOOTER, ANTQ FARM TOOLS & FURNITURE, VNTG GALORE! MUST PU 7/25 (& IN PERSON), 10-5
DESCRIPTION:ITEMS FOR ALL INTERESTS! SURREY BICYCLE, PWR SCOOTER, ANTQ FARM TOOLS & FURNITURE, VNTG GALORE! MUST PU 7/25 (& IN PERSON), 10-5 Rybak's Estate Sales, LLC 
UID:1776827489
STREET-ADDRESS:See website
POSTAL-CODE:54960
LOCALITY:Neshkoro
REGION:ABBREV=WI
COUNTRY:ABBREV=US;ABBREV=USA:United States
URL;TYPE=Event Listing:https://estatesales.org/estate-sales/wi/neshkoro/54960/items-for-all-interests-surrey-1930641
PRIORITY:1
CLASS:PUBLIC
SEQUENCE:0
STATUS:CONFIRMED
TRANSP:OPAQUE
END:VEVENT
END:VCALENDAR
