BEGIN:VCALENDAR
VERSION:2.0
METHOD:PUBLISH
BEGIN:VEVENT
DTSTART:20210716T150000Z
DTEND:20210717T200000Z
LOCATION:Vancouver, WA 98682
TRANSP: OPAQUE
SEQUENCE:0
UID:
DTSTAMP:20260425T145708Z
SUMMARY:Don't miss this beautiful, clean, Vancouver estate sale!
DESCRIPTION:Don't miss this beautiful, clean, Vancouver estate sale! North by Northwest Estate Sales, Services, and Auctions LLC 
UID:1777150628
STREET-ADDRESS:See website
POSTAL-CODE:98682
LOCALITY:Vancouver
REGION:ABBREV=WA
COUNTRY:ABBREV=US;ABBREV=USA:United States
URL;TYPE=Event Listing:https://estatesales.org/estate-sales/wa/vancouver/98682/dont-miss-this-beautiful-clean-1929395
PRIORITY:1
CLASS:PUBLIC
SEQUENCE:0
STATUS:CONFIRMED
TRANSP:OPAQUE
END:VEVENT
END:VCALENDAR
