BEGIN:VCALENDAR
VERSION:2.0
METHOD:PUBLISH
BEGIN:VEVENT
DTSTART:20220715T140000Z
DTEND:20220716T180000Z
LOCATION:Elgin, IL 60124
TRANSP: OPAQUE
SEQUENCE:0
UID:
DTSTAMP:20260425T144049Z
SUMMARY:Grasons Co of NW Chicagoland collectibles bonanza sale July 15 & 16 Elgin IL
DESCRIPTION:Grasons Co of NW Chicagoland collectibles bonanza sale July 15 & 16 Elgin IL Grasons Co of NW Chicagoland 
UID:1777149649
STREET-ADDRESS:See website
POSTAL-CODE:60124
LOCALITY:Elgin
REGION:ABBREV=IL
COUNTRY:ABBREV=US;ABBREV=USA:United States
URL;TYPE=Event Listing:https://estatesales.org/estate-sales/il/elgin/60124/grasons-co-of-nw-chicagoland-2067701
PRIORITY:1
CLASS:PUBLIC
SEQUENCE:0
STATUS:CONFIRMED
TRANSP:OPAQUE
END:VEVENT
END:VCALENDAR
